BEGIN:VCALENDAR
VERSION:2.0
PRODID:SchoolNow
CALSCALE:GREGORIAN
BEGIN:VEVENT
UID:57b818e0-3719-11f0-9f85-0affeeccff39
DTSTAMP:20250522T143043Z
SUMMARY:Private Event - July 4\, 2025
URL;VALUE=URI:https://www.forestcreekcdd.org/calendar/8180236/private-event
 -july-4-2025
DTSTART:20250704T150000Z
DTEND:20250704T190000Z
END:VEVENT
END:VCALENDAR
