BEGIN:VCALENDAR
VERSION:2.0
PRODID:SchoolNow
CALSCALE:GREGORIAN
BEGIN:VEVENT
UID:69a1dd34-3719-11f0-b5e0-0a58a9feac02
DTSTAMP:20250522T143113Z
SUMMARY:Private Event - July 5\, 2025
URL;VALUE=URI:https://www.forestcreekcdd.org/calendar/8180237/private-event
 -july-5-2025
DTSTART:20250705T150000Z
DTEND:20250705T190000Z
END:VEVENT
END:VCALENDAR
