BEGIN:VCALENDAR
VERSION:2.0
PRODID:SchoolNow
CALSCALE:GREGORIAN
BEGIN:VEVENT
UID:7986bb5c-3719-11f0-8829-0a58a9feac02
DTSTAMP:20250522T143140Z
SUMMARY:Private Event - July 26\, 2025
URL;VALUE=URI:https://www.forestcreekcdd.org/calendar/8180238/private-event
 -july-26-2025
DTSTART:20250726T150000Z
DTEND:20250726T190000Z
END:VEVENT
END:VCALENDAR
