BEGIN:VCALENDAR
VERSION:2.0
PRODID:SchoolNow
CALSCALE:GREGORIAN
BEGIN:VEVENT
UID:a12c79bc-3719-11f0-8676-0affe13586cb
DTSTAMP:20250522T143246Z
SUMMARY:HOA Landscape Committee - June 25th\,  2025
LOCATION:Forest Creek Clubhouse - 11685 Old Florida Lane\, Parrish\, FL 342
 19
URL;VALUE=URI:https://www.forestcreekcdd.org/calendar/8180239/hoa-landscape
 -committee-june-25th-2025
DTSTART:20250625T220000Z
DTEND:20250626T000000Z
END:VEVENT
END:VCALENDAR
