BEGIN:VCALENDAR
VERSION:2.0
PRODID:SchoolNow
CALSCALE:GREGORIAN
BEGIN:VEVENT
UID:c9d0a9b0-3719-11f0-900c-0affeeccff39
DTSTAMP:20250522T143354Z
SUMMARY:HOA Landscape Committee - July 16th\,  2025
LOCATION:Forest Creek Clubhouse - 11685 Old Florida Lane\, Parrish\, FL 342
 19
URL;VALUE=URI:https://www.forestcreekcdd.org/calendar/8180240/hoa-landscape
 -committee-july-16th-2025
DTSTART:20250716T220000Z
DTEND:20250717T000000Z
END:VEVENT
END:VCALENDAR
