BEGIN:VCALENDAR
VERSION:2.0
PRODID:SchoolNow
CALSCALE:GREGORIAN
BEGIN:VEVENT
UID:d435081a-3719-11f0-8451-0eb905e51b7d
DTSTAMP:20250522T143412Z
SUMMARY:HOA Landscape Committee - August 20th\,  2025
LOCATION:Forest Creek Clubhouse - 11685 Old Florida Lane\, Parrish\, FL 342
 19
URL;VALUE=URI:https://www.forestcreekcdd.org/calendar/8180241/hoa-landscape
 -committee-august-20th-2025
DTSTART:20250820T220000Z
DTEND:20250821T000000Z
END:VEVENT
END:VCALENDAR
