BEGIN:VCALENDAR
VERSION:2.0
PRODID:SchoolNow
CALSCALE:GREGORIAN
BEGIN:VEVENT
UID:df115180-3719-11f0-a313-0a58a9feac02
DTSTAMP:20250522T143438Z
SUMMARY:HOA Landscape Committee - September 17th\,  2025
LOCATION:Forest Creek Clubhouse - 11685 Old Florida Lane\, Parrish\, FL 342
 19
URL;VALUE=URI:https://www.forestcreekcdd.org/calendar/8180242/hoa-landscape
 -committee-september-17th-2025
DTSTART:20250917T220000Z
DTEND:20250918T000000Z
END:VEVENT
END:VCALENDAR
