BEGIN:VCALENDAR
VERSION:2.0
PRODID:SchoolNow
CALSCALE:GREGORIAN
BEGIN:VEVENT
UID:588c7e9c-5cc0-11f0-aba3-0a58a9feac02
DTSTAMP:20250709T122923Z
SUMMARY:ARC meeting - Feb. 2025
LOCATION:Forest Creek Clubhouse - 11685 Old Florida Lane\, Parrish\, FL 342
 19
URL;VALUE=URI:https://www.forestcreekcdd.org/calendar/8398647/arc-meeting-f
 eb-2025
DTSTART:20250214T000000Z
DTEND:20250214T010000Z
END:VEVENT
END:VCALENDAR
