BEGIN:VCALENDAR
VERSION:2.0
PRODID:SchoolNow
CALSCALE:GREGORIAN
BEGIN:VEVENT
UID:63d0765a-5cc0-11f0-8ec4-0afffb6250df
DTSTAMP:20250709T122942Z
SUMMARY:ARC meeting - Mar. 2025
LOCATION:Forest Creek Clubhouse - 11685 Old Florida Lane\, Parrish\, FL 342
 19
URL;VALUE=URI:https://www.forestcreekcdd.org/calendar/8398648/arc-meeting-m
 ar-2025
DTSTART:20250313T230000Z
DTEND:20250314T000000Z
END:VEVENT
END:VCALENDAR
