BEGIN:VCALENDAR
VERSION:2.0
PRODID:SchoolNow
CALSCALE:GREGORIAN
BEGIN:VEVENT
UID:6dcdbb86-5cc0-11f0-a771-0a58a9feac02
DTSTAMP:20250709T122959Z
SUMMARY:ARC meeting - Apr. 2025
LOCATION:Forest Creek Clubhouse - 11685 Old Florida Lane\, Parrish\, FL 342
 19
URL;VALUE=URI:https://www.forestcreekcdd.org/calendar/8398649/arc-meeting-m
 ar-2025-clone
DTSTART:20250410T230000Z
DTEND:20250411T000000Z
END:VEVENT
END:VCALENDAR
