BEGIN:VCALENDAR
VERSION:2.0
PRODID:SchoolNow
CALSCALE:GREGORIAN
BEGIN:VEVENT
UID:7a66dc74-5cc0-11f0-aeba-0afffb6250df
DTSTAMP:20250709T123020Z
SUMMARY:ARC meeting - May 2025
LOCATION:Forest Creek Clubhouse - 11685 Old Florida Lane\, Parrish\, FL 342
 19
URL;VALUE=URI:https://www.forestcreekcdd.org/calendar/8398650/arc-meeting-m
 ay-2025
DTSTART:20250508T230000Z
DTEND:20250509T000000Z
END:VEVENT
END:VCALENDAR
