BEGIN:VCALENDAR
VERSION:2.0
PRODID:SchoolNow
CALSCALE:GREGORIAN
BEGIN:VEVENT
UID:8494af28-5cc0-11f0-bea7-0a58a9feac02
DTSTAMP:20250709T123037Z
SUMMARY:ARC meeting - Jun. 2025
LOCATION:Forest Creek Clubhouse - 11685 Old Florida Lane\, Parrish\, FL 342
 19
URL;VALUE=URI:https://www.forestcreekcdd.org/calendar/8398651/arc-meeting-j
 un-2025
DTSTART:20250612T230000Z
DTEND:20250613T000000Z
END:VEVENT
END:VCALENDAR
