BEGIN:VCALENDAR
VERSION:2.0
PRODID:SchoolNow
CALSCALE:GREGORIAN
BEGIN:VEVENT
UID:8de20b02-5cc0-11f0-8aa4-0273f81fc779
DTSTAMP:20250709T123053Z
SUMMARY:ARC meeting - Jul. 2025
LOCATION:Forest Creek Clubhouse - 11685 Old Florida Lane\, Parrish\, FL 342
 19
URL;VALUE=URI:https://www.forestcreekcdd.org/calendar/8398652/arc-meeting-j
 ul-2025
DTSTART:20250710T230000Z
DTEND:20250711T000000Z
END:VEVENT
END:VCALENDAR
