BEGIN:VCALENDAR
VERSION:2.0
PRODID:SchoolNow
CALSCALE:GREGORIAN
BEGIN:VEVENT
UID:9aa9f746-5cc0-11f0-a077-0273f81fc779
DTSTAMP:20250709T123114Z
SUMMARY:ARC meeting - Aug. 2025
LOCATION:Forest Creek Clubhouse - 11685 Old Florida Lane\, Parrish\, FL 342
 19
URL;VALUE=URI:https://www.forestcreekcdd.org/calendar/8398653/arc-meeting-a
 ug-2025
DTSTART:20250814T230000Z
DTEND:20250815T000000Z
END:VEVENT
END:VCALENDAR
