BEGIN:VCALENDAR
VERSION:2.0
PRODID:SchoolNow
CALSCALE:GREGORIAN
BEGIN:VEVENT
UID:a6725cf8-5cc0-11f0-b1b6-0afffb6250df
DTSTAMP:20250709T123134Z
SUMMARY:ARC meeting - Sept. 2025
LOCATION:Forest Creek Clubhouse - 11685 Old Florida Lane\, Parrish\, FL 342
 19
URL;VALUE=URI:https://www.forestcreekcdd.org/calendar/8398654/arc-meeting-s
 ept-2025
DTSTART:20250911T230000Z
DTEND:20250912T000000Z
END:VEVENT
END:VCALENDAR
