BEGIN:VCALENDAR
VERSION:2.0
PRODID:SchoolNow
CALSCALE:GREGORIAN
BEGIN:VEVENT
UID:b08c4564-5cc0-11f0-a5a5-0e5cca9c67d5
DTSTAMP:20250929T095336Z
SUMMARY:ARC meeting - Oct. 2025
LOCATION:Forest Creek Clubhouse - 11685 Old Florida Lane\, Parrish\, FL 342
 19
URL;VALUE=URI:https://www.forestcreekcdd.org/calendar/8398655/arc-meeting-o
 ct-2025
DTSTART:20251009T170000Z
DTEND:20251009T180000Z
END:VEVENT
END:VCALENDAR
