BEGIN:VCALENDAR
VERSION:2.0
PRODID:SchoolNow
CALSCALE:GREGORIAN
BEGIN:VEVENT
UID:bb86b972-5cc0-11f0-ba1e-0a58a9feac02
DTSTAMP:20250709T123209Z
SUMMARY:ARC meeting - Nov. 2025
LOCATION:Forest Creek Clubhouse - 11685 Old Florida Lane\, Parrish\, FL 342
 19
URL;VALUE=URI:https://www.forestcreekcdd.org/calendar/8398656/arc-meeting-n
 ov-2025
DTSTART:20251114T000000Z
DTEND:20251114T010000Z
END:VEVENT
END:VCALENDAR
