BEGIN:VCALENDAR
VERSION:2.0
PRODID:SchoolNow
CALSCALE:GREGORIAN
BEGIN:VEVENT
UID:f5366348-5cc0-11f0-9731-02685cdb2011
DTSTAMP:20250709T130244Z
SUMMARY:CEC Meeting - May 2025
LOCATION:Forest Creek Club House
URL;VALUE=URI:https://www.forestcreekcdd.org/calendar/8398661/cec-meeting-m
 ay-2025
DTSTART:20250515T213000Z
DTEND:20250515T223000Z
END:VEVENT
END:VCALENDAR
