BEGIN:VCALENDAR
VERSION:2.0
PRODID:SchoolNow
CALSCALE:GREGORIAN
BEGIN:VEVENT
UID:fea0a5f6-5cc0-11f0-904d-0e5cca9c67d5
DTSTAMP:20250709T130303Z
SUMMARY:CEC Meeting - Jun 2025
LOCATION:Forest Creek Club House
URL;VALUE=URI:https://www.forestcreekcdd.org/calendar/8398662/cec-meeting-j
 un-2025
DTSTART:20250619T213000Z
DTEND:20250619T223000Z
END:VEVENT
END:VCALENDAR
