BEGIN:VCALENDAR
VERSION:2.0
PRODID:SchoolNow
CALSCALE:GREGORIAN
BEGIN:VEVENT
UID:08572b74-5cc1-11f0-90cf-0a58a9feac02
DTSTAMP:20250709T130218Z
SUMMARY:CEC Meeting - Jul 2025
LOCATION:Forest Creek Club House
URL;VALUE=URI:https://www.forestcreekcdd.org/calendar/8398663/cec-meeting-j
 ul-2025
DTSTART:20250717T213000Z
DTEND:20250717T223000Z
END:VEVENT
END:VCALENDAR
