BEGIN:VCALENDAR
VERSION:2.0
PRODID:SchoolNow
CALSCALE:GREGORIAN
BEGIN:VEVENT
UID:10d33f86-5cc1-11f0-97e8-0a58a9feac02
DTSTAMP:20250709T130157Z
SUMMARY:CEC Meeting - Aug 2025
LOCATION:Forest Creek Club House
URL;VALUE=URI:https://www.forestcreekcdd.org/calendar/8398664/cec-meeting-a
 ug-2025
DTSTART:20250821T213000Z
DTEND:20250821T223000Z
END:VEVENT
END:VCALENDAR
