BEGIN:VCALENDAR
VERSION:2.0
PRODID:SchoolNow
CALSCALE:GREGORIAN
BEGIN:VEVENT
UID:222c31ca-5cc1-11f0-a842-0ed8963db997
DTSTAMP:20250709T130032Z
SUMMARY:CEC Meeting - Oct 2025
LOCATION:Forest Creek Club House
URL;VALUE=URI:https://www.forestcreekcdd.org/calendar/8398666/cec-meeting-o
 ct-2025
DTSTART:20251016T213000Z
DTEND:20251016T223000Z
END:VEVENT
END:VCALENDAR
