BEGIN:VCALENDAR
VERSION:2.0
PRODID:SchoolNow
CALSCALE:GREGORIAN
BEGIN:VEVENT
UID:2b0a4566-5cc1-11f0-b1f8-0a58a9feac02
DTSTAMP:20250709T130018Z
SUMMARY:CEC Meeting - Nov 2025
LOCATION:Forest Creek Club House
URL;VALUE=URI:https://www.forestcreekcdd.org/calendar/8398712/cec-meeting-n
 ov-2025
DTSTART:20251120T223000Z
DTEND:20251120T233000Z
END:VEVENT
END:VCALENDAR
