BEGIN:VCALENDAR
VERSION:2.0
PRODID:SchoolNow
CALSCALE:GREGORIAN
BEGIN:VEVENT
UID:6817157e-5cc1-11f0-96c6-0a58a9feac02
DTSTAMP:20250709T123659Z
SUMMARY:HOA  Meeting - Oct. 2025
LOCATION:Forest Creek Clubhouse - 11685 Old Florida Lane\, Parrish\, FL 342
 19
URL;VALUE=URI:https://www.forestcreekcdd.org/calendar/8398715/hoa-meeting-o
 ct-2025
DTSTART:20251016T220000Z
DTEND:20251017T010000Z
END:VEVENT
END:VCALENDAR
