BEGIN:VCALENDAR
VERSION:2.0
PRODID:SchoolNow
CALSCALE:GREGORIAN
BEGIN:VEVENT
UID:072b5ede-6273-11f0-81c0-0affed69585f
DTSTAMP:20250716T183102Z
SUMMARY:B-DAY PARTY
URL;VALUE=URI:https://www.forestcreekcdd.org/calendar/8420700/b-day-party
DTSTART:20250719T140000Z
DTEND:20250719T220000Z
END:VEVENT
END:VCALENDAR
