BEGIN:VCALENDAR
VERSION:2.0
PRODID:SchoolNow
CALSCALE:GREGORIAN
BEGIN:VEVENT
UID:1fb777a8-6273-11f0-b57c-0a58a9feac02
DTSTAMP:20250716T183144Z
SUMMARY:Grad Party
URL;VALUE=URI:https://www.forestcreekcdd.org/calendar/8420701/grad-party
DTSTART:20250720T160000Z
DTEND:20250720T210000Z
END:VEVENT
END:VCALENDAR
