BEGIN:VCALENDAR
VERSION:2.0
PRODID:SchoolNow
CALSCALE:GREGORIAN
BEGIN:VEVENT
UID:3a2645ce-6273-11f0-b715-0afffe51417b
DTSTAMP:20250716T183228Z
SUMMARY:Women's fellowship
URL;VALUE=URI:https://www.forestcreekcdd.org/calendar/8420702/womens-fellow
 ship
DTSTART:20250729T140000Z
DTEND:20250729T180000Z
END:VEVENT
END:VCALENDAR
