BEGIN:VCALENDAR
VERSION:2.0
PRODID:SchoolNow
CALSCALE:GREGORIAN
BEGIN:VEVENT
UID:4de1dde4-6273-11f0-8cdb-0210512b0f9d
DTSTAMP:20250716T183301Z
SUMMARY:B-DAY Party
URL;VALUE=URI:https://www.forestcreekcdd.org/calendar/8420703/b-day-party
DTSTART:20250802T150000Z
DTEND:20250802T220000Z
END:VEVENT
END:VCALENDAR
