BEGIN:VCALENDAR
VERSION:2.0
PRODID:SchoolNow
CALSCALE:GREGORIAN
BEGIN:VEVENT
UID:5e9e6ae4-6273-11f0-bc62-0e59f692aa7b
DTSTAMP:20250716T183329Z
SUMMARY:PARTY- Church
URL;VALUE=URI:https://www.forestcreekcdd.org/calendar/8420704/party-church
DTSTART:20250830T150000Z
DTEND:20250830T220000Z
END:VEVENT
END:VCALENDAR
