BEGIN:VCALENDAR
VERSION:2.0
PRODID:SchoolNow
CALSCALE:GREGORIAN
BEGIN:VEVENT
UID:708a9656-6273-11f0-8b3c-02b0890989d9
DTSTAMP:20250716T183359Z
SUMMARY:Church Party
URL;VALUE=URI:https://www.forestcreekcdd.org/calendar/8420705/church-party
DTSTART:20250923T140000Z
DTEND:20250924T000000Z
END:VEVENT
END:VCALENDAR
