BEGIN:VCALENDAR
VERSION:2.0
PRODID:SchoolNow
CALSCALE:GREGORIAN
BEGIN:VEVENT
UID:88280faa-6273-11f0-a1a7-0eda56c5edcb
DTSTAMP:20250716T183439Z
SUMMARY:Church Party - Sept. 27\, 2025
URL;VALUE=URI:https://www.forestcreekcdd.org/calendar/8420706/church-party-
 sept-27-2025
DTSTART:20250927T140000Z
DTEND:20250928T000000Z
END:VEVENT
END:VCALENDAR
