BEGIN:VCALENDAR
VERSION:2.0
PRODID:SchoolNow
CALSCALE:GREGORIAN
BEGIN:VEVENT
UID:aa1fc4e2-6401-11f0-a0e8-0a58a9feac02
DTSTAMP:20250718T180436Z
SUMMARY:Private Event - August 3\, 2025
URL;VALUE=URI:https://www.forestcreekcdd.org/calendar/8428066/private-event
 -august-3-2025
DTSTART:20250803T160000Z
DTEND:20250803T210000Z
END:VEVENT
END:VCALENDAR
