BEGIN:VCALENDAR
VERSION:2.0
PRODID:SchoolNow
CALSCALE:GREGORIAN
BEGIN:VEVENT
UID:79226b3c-6bc3-11f0-90fa-0a58a9feac02
DTSTAMP:20250728T145934Z
SUMMARY:Private Event
URL;VALUE=URI:https://www.forestcreekcdd.org/calendar/8452219/private-event
DTSTART:20250805T130000Z
DTEND:20250805T180000Z
END:VEVENT
END:VCALENDAR
