BEGIN:VCALENDAR
VERSION:2.0
PRODID:SchoolNow
CALSCALE:GREGORIAN
BEGIN:VEVENT
UID:e3f70754-7386-11f0-8bc2-02a999df172f
DTSTAMP:20250807T120603Z
SUMMARY:CASUAL FRIDAY - Oct. 2025
URL;VALUE=URI:https://www.forestcreekcdd.org/calendar/8478843/casual-friday
 -oct-2025
DTSTART:20251024T190000Z
DTEND:20251025T010000Z
END:VEVENT
END:VCALENDAR
