BEGIN:VCALENDAR
VERSION:2.0
PRODID:SchoolNow
CALSCALE:GREGORIAN
BEGIN:VEVENT
UID:7c1fb820-833e-11f0-b0f2-0a58a9feac02
DTSTAMP:20250827T120804Z
SUMMARY:Private Event - August 31\, 2025
URL;VALUE=URI:https://www.forestcreekcdd.org/calendar/8549148/private-event
 -august-31-2025
DTSTART:20250831T180000Z
DTEND:20250831T230000Z
END:VEVENT
END:VCALENDAR
