BEGIN:VCALENDAR
VERSION:2.0
PRODID:SchoolNow
CALSCALE:GREGORIAN
BEGIN:VEVENT
UID:8dca484c-833e-11f0-b326-0affc1bf85c7
DTSTAMP:20250827T120833Z
SUMMARY:Friday Dinner
URL;VALUE=URI:https://www.forestcreekcdd.org/calendar/8549149/friday-dinner
DTSTART:20250926T120800Z
DTEND:20250926T130800Z
END:VEVENT
END:VCALENDAR
