BEGIN:VCALENDAR
VERSION:2.0
PRODID:SchoolNow
CALSCALE:GREGORIAN
BEGIN:VEVENT
UID:168b332c-957c-11f0-b506-0affdead9a5b
DTSTAMP:20251009T154703Z
SUMMARY:CDD Board Meeting  - Oct 2025
LOCATION:Forest Creek Clubhouse - 11685 Old Florida Lane\, Parrish\, FL 342
 19
URL;VALUE=URI:https://www.forestcreekcdd.org/calendar/8643134/cdd-board-mee
 ting-oct-2025
DTSTART:20251009T170000Z
DTEND:20251009T190000Z
ATTACH;FILENAME=2025-10-09 Forest Creek CDD Agenda Package_v2.pdf;FMTTYPE=a
 pplication/pdf:https://campussuite-storage.s3.amazonaws.com/prod/1558968/5
 742251a-fff5-11e9-a8e4-0a793f2f5ecb/3017106/7c7c2064-a09f-11f0-a6be-0a58a9
 feac02/file/2025-10-09 Forest Creek CDD Agenda Package_v2.pdf
END:VEVENT
END:VCALENDAR
