BEGIN:VCALENDAR
VERSION:2.0
PRODID:SchoolNow
CALSCALE:GREGORIAN
BEGIN:VEVENT
UID:225441d0-957c-11f0-b0ca-0affdead9a5b
DTSTAMP:20251112T170339Z
SUMMARY:CDD Board Meeting  - Nov. 2025
LOCATION:Forest Creek Clubhouse - 11685 Old Florida Lane\, Parrish\, FL 342
 19
URL;VALUE=URI:https://www.forestcreekcdd.org/calendar/8643135/cdd-board-mee
 ting-nov-2025
DTSTART:20251113T180000Z
DTEND:20251113T200000Z
ATTACH;FILENAME=2025-11-13 Forest Creek CDD Agenda Package - Revised - OCR 
 - Compressed.pdf;FMTTYPE=application/pdf:https://campussuite-storage.s3.am
 azonaws.com/prod/1558968/5742251a-fff5-11e9-a8e4-0a793f2f5ecb/3036875/8580
 26c4-bfe9-11f0-895c-0a58a9feac02/file/2025-11-13 Forest Creek CDD Agenda P
 ackage - Revised - OCR - Compressed.pdf
END:VEVENT
END:VCALENDAR
