BEGIN:VCALENDAR
VERSION:2.0
PRODID:SchoolNow
CALSCALE:GREGORIAN
BEGIN:VEVENT
UID:0897f4c2-cfa5-11f0-8135-02ac339edba7
DTSTAMP:20251202T173336Z
SUMMARY:Mahjong - Dec. 1\,  2026
LOCATION:Clubhouse
URL;VALUE=URI:https://www.forestcreekcdd.org/calendar/8815750/mahjong-dec-1
 -2026
DTSTART:20261201T233000Z
DTEND:20261202T013000Z
END:VEVENT
END:VCALENDAR
