BEGIN:VCALENDAR
VERSION:2.0
PRODID:SchoolNow
CALSCALE:GREGORIAN
BEGIN:VEVENT
UID:1346ffb2-cfa5-11f0-aa57-0a58a9feac02
DTSTAMP:20251202T173354Z
SUMMARY:Mahjong - Dec. 8\,  2026
LOCATION:Clubhouse
URL;VALUE=URI:https://www.forestcreekcdd.org/calendar/8815751/mahjong-dec-8
 -2026
DTSTART:20261208T233000Z
DTEND:20261209T013000Z
END:VEVENT
END:VCALENDAR
