BEGIN:VCALENDAR
VERSION:2.0
PRODID:SchoolNow
CALSCALE:GREGORIAN
BEGIN:VEVENT
UID:1ff7856a-cfa5-11f0-8bdf-0a58a9feac02
DTSTAMP:20251202T173416Z
SUMMARY:Mahjong - Dec. 15\,  2026
LOCATION:Clubhouse
URL;VALUE=URI:https://www.forestcreekcdd.org/calendar/8815752/mahjong-dec-1
 5-2026
DTSTART:20261215T233000Z
DTEND:20261216T013000Z
END:VEVENT
END:VCALENDAR
