BEGIN:VCALENDAR
VERSION:2.0
PRODID:SchoolNow
CALSCALE:GREGORIAN
BEGIN:VEVENT
UID:2da56146-cfa5-11f0-aed9-0a58a9feac02
DTSTAMP:20251202T173439Z
SUMMARY:Mahjong - Dec. 22\,  2026
LOCATION:Clubhouse
URL;VALUE=URI:https://www.forestcreekcdd.org/calendar/8815753/mahjong-dec-2
 2-2026
DTSTART:20261222T233000Z
DTEND:20261223T013000Z
END:VEVENT
END:VCALENDAR
