BEGIN:VCALENDAR
VERSION:2.0
PRODID:SchoolNow
CALSCALE:GREGORIAN
BEGIN:VEVENT
UID:3933d39e-cfa5-11f0-b92c-0a58a9feac02
DTSTAMP:20251202T173458Z
SUMMARY:Mahjong - Dec. 29\,  2026
LOCATION:Clubhouse
URL;VALUE=URI:https://www.forestcreekcdd.org/calendar/8815754/mahjong-dec-2
 9-2026
DTSTART:20261229T233000Z
DTEND:20261230T013000Z
END:VEVENT
END:VCALENDAR
