BEGIN:VCALENDAR
VERSION:2.0
PRODID:SchoolNow
CALSCALE:GREGORIAN
BEGIN:VEVENT
UID:38c7ec7a-d472-11f0-ae0e-0a58a9feac02
DTSTAMP:20251208T201229Z
SUMMARY:Forest Creek Book Club - Dec. 2026
URL;VALUE=URI:https://www.forestcreekcdd.org/calendar/8820108/forest-creek-
 book-club-dec-2026
DTSTART:20261204T000000Z
DTEND:20261204T020000Z
END:VEVENT
END:VCALENDAR
