BEGIN:VCALENDAR
VERSION:2.0
PRODID:SchoolNow
CALSCALE:GREGORIAN
BEGIN:VEVENT
UID:940fbe00-d5f3-11f0-b73c-0a58a9feac02
DTSTAMP:20251210T181058Z
SUMMARY:CASUAL FRIDAY - Jun. 2025
URL;VALUE=URI:https://www.forestcreekcdd.org/calendar/8821177/casual-friday
 -jun-2025
DTSTART:20250626T190000Z
DTEND:20250627T010000Z
END:VEVENT
END:VCALENDAR
