BEGIN:VCALENDAR
VERSION:2.0
PRODID:SchoolNow
CALSCALE:GREGORIAN
BEGIN:VEVENT
UID:e19ee916-d5f3-11f0-a7ca-0a58a9feac02
DTSTAMP:20251210T181308Z
SUMMARY:CASUAL FRIDAY - Dec. 2026
URL;VALUE=URI:https://www.forestcreekcdd.org/calendar/8821184/casual-friday
 -dec-2026
DTSTART:20261218T200000Z
DTEND:20261219T010000Z
END:VEVENT
END:VCALENDAR
